BEGIN:VCALENDAR
VERSION:2.0
PRODID:-//FFV - ECPv6.6.3//NONSGML v1.0//EN
CALSCALE:GREGORIAN
METHOD:PUBLISH
X-WR-CALNAME:FFV
X-ORIGINAL-URL:https://www.staging.floridafamilyvoice.org
X-WR-CALDESC:Events for FFV
REFRESH-INTERVAL;VALUE=DURATION:PT1H
X-Robots-Tag:noindex
X-PUBLISHED-TTL:PT1H
BEGIN:VTIMEZONE
TZID:America/New_York
BEGIN:DAYLIGHT
TZOFFSETFROM:-0500
TZOFFSETTO:-0400
TZNAME:EDT
DTSTART:20210314T070000
END:DAYLIGHT
BEGIN:STANDARD
TZOFFSETFROM:-0400
TZOFFSETTO:-0500
TZNAME:EST
DTSTART:20211107T060000
END:STANDARD
END:VTIMEZONE
BEGIN:VEVENT
DTSTART;TZID=America/New_York:20211023T163000
DTEND;TZID=America/New_York:20211023T203000
DTSTAMP:20260419T150513
CREATED:20210916T144846Z
LAST-MODIFIED:20210916T182104Z
UID:56007-1635006600-1635021000@www.staging.floridafamilyvoice.org
SUMMARY:Florida Family Policy Council’s 16th Anniversary Gala - Dennis Prager
DESCRIPTION:Save the Date: October 23\, 2021\n“An Evening with Dennis Prager”\nFeaturing \nDennis Prager\nConservative author\, educator\, commentator\,\nand founder of Prager University\nSaturday\, October 23\, 2021\n  \n4:30-5:30 PM VIP Reception\n6:00-8:30 PM Dinner & Program\nLOCATION:\nRosen Centre Hotel\n9840 International Drive\nOrlando\, FL 32819\nTickets and tables on sale now here. \nCOVID SAFETY PRECAUTIONS WILL BE IMPLEMENTED. Hotel servers will be wearing masks\, but masks are not required and are optional for guests. Hand sanitizing stations will be located throughout the hotel and meeting rooms.\n  \n 
URL:https://www.staging.floridafamilyvoice.org/events/florida-family-policy-councils-16th-anniversary-gala-dennis-prager/
LOCATION:Rosen Centre Hotel\, 9840 International Dr\, Orlando\, FL\, 32819
CATEGORIES:Sponsored Event
ATTACH;FMTTYPE=image/jpeg:https://www.staging.floridafamilyvoice.org/wp-content/uploads/CROPPED3.DENNIS-PRAEGER-a716711b4e.jpg
END:VEVENT
END:VCALENDAR