BEGIN:VCALENDAR
VERSION:2.0
PRODID:-//FFV - ECPv6.6.3//NONSGML v1.0//EN
CALSCALE:GREGORIAN
METHOD:PUBLISH
X-WR-CALNAME:FFV
X-ORIGINAL-URL:https://www.staging.floridafamilyvoice.org
X-WR-CALDESC:Events for FFV
REFRESH-INTERVAL;VALUE=DURATION:PT1H
X-Robots-Tag:noindex
X-PUBLISHED-TTL:PT1H
BEGIN:VTIMEZONE
TZID:America/New_York
BEGIN:DAYLIGHT
TZOFFSETFROM:-0500
TZOFFSETTO:-0400
TZNAME:EDT
DTSTART:20210314T070000
END:DAYLIGHT
BEGIN:STANDARD
TZOFFSETFROM:-0400
TZOFFSETTO:-0500
TZNAME:EST
DTSTART:20211107T060000
END:STANDARD
END:VTIMEZONE
BEGIN:VEVENT
DTSTART;TZID=America/New_York:20210528T123000
DTEND;TZID=America/New_York:20210528T133000
DTSTAMP:20260419T212832
CREATED:20210416T194513Z
LAST-MODIFIED:20210430T203532Z
UID:54480-1622205000-1622208600@www.staging.floridafamilyvoice.org
SUMMARY:FPEA Workshop with John Stemberger: “This Present Darkness: Understanding the Gender Confusion Campaign Directed at Our Children”
DESCRIPTION:Join us this year at the Florida Parent-Educators Association’s (FPEA) Homeschool Convention in Orlando Thurs-Sat\, May 27-29\, for a special workshop presentation by FFPC President & General Counsel John Stemberger on the subject: \n“This Present Darkness: Understanding the Gender Confusion Campaign Directed at Our Children”\nA closer look at God’s design for gender and human sexuality and the secular world’s obsession for confusing our home educated children in this area through technology and social media. \nThis workshop will be held on Friday\, May 28th\, from 12:30 – 1:20 PM. \nTo learn more about FPEA’s 2021 Conference in Orlando or to register\, please visit https://fpea.com/events/5376/2021-fpea-homeschool-convention. \nPlease stop by and say hello at our exhibit table & be sure to attend this insightful workshop by President John Stemberger. \n—————- \nWHAT: 2021 FPEA Homeschool Convention Workshop with John Stemberger\nThis Present Darkness: Understanding the Gender Confusion Campaign Directed at Our Children\nWHERE: Rosen Shingle Creek (Orlando\, FL)\nWHEN: Friday\, May 28th\, from 12:30 – 1:20 PM\nPlease see ticketing page for more information: https://fpea.com/events/5376/2021-fpea-homeschool-convention \n 
URL:https://www.staging.floridafamilyvoice.org/events/fpea-workshop-with-john-stemberger-this-present-darkness-understanding-the-gender-confusion-campaign-directed-at-our-children/
LOCATION:Rosen Shingle Creek\, 9939 Universal Blvd\, Orlando\, FL\, 32819\, United States
CATEGORIES:Special Event,Sponsored Event
ATTACH;FMTTYPE=image/png:https://www.staging.floridafamilyvoice.org/wp-content/uploads/FPEA-2021_Facebook-Speaker3-1200x630-1.png
END:VEVENT
END:VCALENDAR