BEGIN:VCALENDAR
VERSION:2.0
PRODID:-//FFV - ECPv6.6.3//NONSGML v1.0//EN
CALSCALE:GREGORIAN
METHOD:PUBLISH
X-WR-CALNAME:FFV
X-ORIGINAL-URL:https://www.staging.floridafamilyvoice.org
X-WR-CALDESC:Events for FFV
REFRESH-INTERVAL;VALUE=DURATION:PT1H
X-Robots-Tag:noindex
X-PUBLISHED-TTL:PT1H
BEGIN:VTIMEZONE
TZID:America/New_York
BEGIN:DAYLIGHT
TZOFFSETFROM:-0500
TZOFFSETTO:-0400
TZNAME:EDT
DTSTART:20200308T070000
END:DAYLIGHT
BEGIN:STANDARD
TZOFFSETFROM:-0400
TZOFFSETTO:-0500
TZNAME:EST
DTSTART:20201101T060000
END:STANDARD
END:VTIMEZONE
BEGIN:VEVENT
DTSTART;TZID=America/New_York:20200514T113000
DTEND;TZID=America/New_York:20200514T130000
DTSTAMP:20260422T161326
CREATED:20200424T211909Z
LAST-MODIFIED:20200511T163030Z
UID:51230-1589455800-1589461200@www.staging.floridafamilyvoice.org
SUMMARY:“Using Technology & Data To Enhance Your Ministry” - Leadership in a Post Pandemic World Webinar Series
DESCRIPTION:Webinar Series for\nPastors & Ministry Leaders \nWeek 3: Leadership in a Post Pandemic World\nUsing Technology & Data To Enhance Your Ministry\nThursday\, May 14\, 2020\, 11:30am to 1:00pm \nREGISTER HERE: https://www.staging.floridafamilyvoice.org/technology-data-ministry-webinar\nEmail info@floridafamilyvoice.org for details.\n\nDownload Printable Flyer Here \nFor some immediate ideas & resources check out COVIDChurchAid.org. \nDonate
URL:https://www.staging.floridafamilyvoice.org/events/technology-data-pandemic-webinar/
CATEGORIES:Special Event,Sponsored Event
ATTACH;FMTTYPE=image/jpeg:https://www.staging.floridafamilyvoice.org/wp-content/uploads/FB_1920x1080.jpg
END:VEVENT
END:VCALENDAR