BEGIN:VCALENDAR
VERSION:2.0
PRODID:-//FFV - ECPv6.6.3//NONSGML v1.0//EN
CALSCALE:GREGORIAN
METHOD:PUBLISH
X-WR-CALNAME:FFV
X-ORIGINAL-URL:https://www.staging.floridafamilyvoice.org
X-WR-CALDESC:Events for FFV
REFRESH-INTERVAL;VALUE=DURATION:PT1H
X-Robots-Tag:noindex
X-PUBLISHED-TTL:PT1H
BEGIN:VTIMEZONE
TZID:America/New_York
BEGIN:DAYLIGHT
TZOFFSETFROM:-0500
TZOFFSETTO:-0400
TZNAME:EDT
DTSTART:20220313T070000
END:DAYLIGHT
BEGIN:STANDARD
TZOFFSETFROM:-0400
TZOFFSETTO:-0500
TZNAME:EST
DTSTART:20221106T060000
END:STANDARD
END:VTIMEZONE
BEGIN:VEVENT
DTSTART;TZID=America/New_York:20220124T140000
DTEND;TZID=America/New_York:20220125T143000
DTSTAMP:20260419T093042
CREATED:20210927T020326Z
LAST-MODIFIED:20220104T153450Z
UID:56072-1643032800-1643121000@www.staging.floridafamilyvoice.org
SUMMARY:Pro-Life\, Pro-Family Days at the Capitol
DESCRIPTION:
URL:https://www.staging.floridafamilyvoice.org/events/pro-family-days-at-the-capitol-2/
LOCATION:The Florida Capitol\, Tallahassee\, FL\, 400 S Monroe St\,\, Tallahassee\, FL\, 32399\, United States
CATEGORIES:Sponsored Event
ATTACH;FMTTYPE=image/png:https://www.staging.floridafamilyvoice.org/wp-content/uploads/Untitled-940-x-600-px-940-x-650-px-940-x-700-px-1-5.png
ORGANIZER;CN="Florida Family Policy Council":MAILTO:info@floridafamilyvoice.org
END:VEVENT
END:VCALENDAR