BEGIN:VCALENDAR
VERSION:2.0
PRODID:-//FFV - ECPv6.6.3//NONSGML v1.0//EN
CALSCALE:GREGORIAN
METHOD:PUBLISH
X-WR-CALNAME:FFV
X-ORIGINAL-URL:https://www.staging.floridafamilyvoice.org
X-WR-CALDESC:Events for FFV
REFRESH-INTERVAL;VALUE=DURATION:PT1H
X-Robots-Tag:noindex
X-PUBLISHED-TTL:PT1H
BEGIN:VTIMEZONE
TZID:America/New_York
BEGIN:DAYLIGHT
TZOFFSETFROM:-0500
TZOFFSETTO:-0400
TZNAME:EDT
DTSTART:20210314T070000
END:DAYLIGHT
BEGIN:STANDARD
TZOFFSETFROM:-0400
TZOFFSETTO:-0500
TZNAME:EST
DTSTART:20211107T060000
END:STANDARD
END:VTIMEZONE
BEGIN:VEVENT
DTSTART;TZID=America/New_York:20210518T130000
DTEND;TZID=America/New_York:20210518T143000
DTSTAMP:20260419T201101
CREATED:20210512T173626Z
LAST-MODIFIED:20210518T114739Z
UID:54888-1621342800-1621348200@www.staging.floridafamilyvoice.org
SUMMARY:May 18: Rally for Florida’s Future: Stop the Expansion of Gambling
DESCRIPTION:Rally with us in Tallahassee on Tuesday\, May 18\, against the largest proposed gambling expansion in US history! \n			\n				\n				\n				\n				\n				Tuesday\, May 18\, 20211 PM ETCapitol Courtyard\, Tallahassee\, FL \nFor more information or details\, please email info@floridafamilyvoice.org. All press inquiries should be made to media@floridafamilyvoice.org.
URL:https://www.staging.floridafamilyvoice.org/events/rally-against-gambling-expansion/
LOCATION:The Florida Capitol\, Tallahassee\, FL\, 400 S Monroe St\,\, Tallahassee\, FL\, 32399\, United States
CATEGORIES:Special Event,Sponsored Event
ATTACH;FMTTYPE=image/jpeg:https://www.staging.floridafamilyvoice.org/wp-content/uploads/Slider-image-2.jpg
END:VEVENT
BEGIN:VEVENT
DTSTART;TZID=America/New_York:20210525T083000
DTEND;TZID=America/New_York:20210525T110000
DTSTAMP:20260419T201101
CREATED:20210409T165926Z
LAST-MODIFIED:20210504T172527Z
UID:54358-1621931400-1621940400@www.staging.floridafamilyvoice.org
SUMMARY:South Florida Legislative Prayer Breakfast
DESCRIPTION:Join FFPC\, the South Florida Pastors Network & Asociación de Ministros for the South Florida Legislative Prayer Breakfast –bringing pastors and legislators together to pray.\n			\n				\n				\n				\n				\n				\n			\n				\n				\n				\n				\n				Tuesday\, May 25\, 20218:30-11 AMSignature Grand\, Davie\, FL \nTickets are $10 (registration required) and include an all-American breakfast. \nCOVID precautions to be implemented \nThis event is open to legislators\, pastors and their spouses. \nTo register or to find out more\, call:in English 954-680-9909en español 786-355-5960 info@asociaciondeministros.com \nEvent information available en español: https://conta.cc/3tmw9ED \n 
URL:https://www.staging.floridafamilyvoice.org/events/south-florida-legislative-prayer-breakfast/
LOCATION:Signature Grand\, 6900 State Road State Road 84\, Davie\, FL\, 33317\, United States
CATEGORIES:Special Event,Sponsored Event
ATTACH;FMTTYPE=image/jpeg:https://www.staging.floridafamilyvoice.org/wp-content/uploads/Legislative-Breakfast_-website-link.jpg
END:VEVENT
BEGIN:VEVENT
DTSTART;TZID=America/New_York:20210528T123000
DTEND;TZID=America/New_York:20210528T133000
DTSTAMP:20260419T201101
CREATED:20210416T194513Z
LAST-MODIFIED:20210430T203532Z
UID:54480-1622205000-1622208600@www.staging.floridafamilyvoice.org
SUMMARY:FPEA Workshop with John Stemberger: “This Present Darkness: Understanding the Gender Confusion Campaign Directed at Our Children”
DESCRIPTION:Join us this year at the Florida Parent-Educators Association’s (FPEA) Homeschool Convention in Orlando Thurs-Sat\, May 27-29\, for a special workshop presentation by FFPC President & General Counsel John Stemberger on the subject: \n“This Present Darkness: Understanding the Gender Confusion Campaign Directed at Our Children”\nA closer look at God’s design for gender and human sexuality and the secular world’s obsession for confusing our home educated children in this area through technology and social media. \nThis workshop will be held on Friday\, May 28th\, from 12:30 – 1:20 PM. \nTo learn more about FPEA’s 2021 Conference in Orlando or to register\, please visit https://fpea.com/events/5376/2021-fpea-homeschool-convention. \nPlease stop by and say hello at our exhibit table & be sure to attend this insightful workshop by President John Stemberger. \n—————- \nWHAT: 2021 FPEA Homeschool Convention Workshop with John Stemberger\nThis Present Darkness: Understanding the Gender Confusion Campaign Directed at Our Children\nWHERE: Rosen Shingle Creek (Orlando\, FL)\nWHEN: Friday\, May 28th\, from 12:30 – 1:20 PM\nPlease see ticketing page for more information: https://fpea.com/events/5376/2021-fpea-homeschool-convention \n 
URL:https://www.staging.floridafamilyvoice.org/events/fpea-workshop-with-john-stemberger-this-present-darkness-understanding-the-gender-confusion-campaign-directed-at-our-children/
LOCATION:Rosen Shingle Creek\, 9939 Universal Blvd\, Orlando\, FL\, 32819\, United States
CATEGORIES:Special Event,Sponsored Event
ATTACH;FMTTYPE=image/png:https://www.staging.floridafamilyvoice.org/wp-content/uploads/FPEA-2021_Facebook-Speaker3-1200x630-1.png
END:VEVENT
END:VCALENDAR