BEGIN:VCALENDAR
VERSION:2.0
PRODID:-//FFV - ECPv6.6.3//NONSGML v1.0//EN
CALSCALE:GREGORIAN
METHOD:PUBLISH
X-WR-CALNAME:FFV
X-ORIGINAL-URL:https://www.staging.floridafamilyvoice.org
X-WR-CALDESC:Events for FFV
REFRESH-INTERVAL;VALUE=DURATION:PT1H
X-Robots-Tag:noindex
X-PUBLISHED-TTL:PT1H
BEGIN:VTIMEZONE
TZID:America/New_York
BEGIN:DAYLIGHT
TZOFFSETFROM:-0500
TZOFFSETTO:-0400
TZNAME:EDT
DTSTART:20210314T070000
END:DAYLIGHT
BEGIN:STANDARD
TZOFFSETFROM:-0400
TZOFFSETTO:-0500
TZNAME:EST
DTSTART:20211107T060000
END:STANDARD
END:VTIMEZONE
BEGIN:VEVENT
DTSTART;VALUE=DATE:20211115
DTEND;VALUE=DATE:20211119
DTSTAMP:20260422T232201
CREATED:20211104T174359Z
LAST-MODIFIED:20211104T174507Z
UID:56188-1636934400-1637279999@www.staging.floridafamilyvoice.org
SUMMARY:David Barton on tour in 5 Florida cities\, Nov. 15th-18th
DESCRIPTION:
URL:https://www.staging.floridafamilyvoice.org/events/david-barton-on-tour-in-5-florida-cities-nov-15th-18th/
CATEGORIES:Special Event
END:VEVENT
END:VCALENDAR