BEGIN:VCALENDAR
VERSION:2.0
PRODID:-//FFV - ECPv6.6.3//NONSGML v1.0//EN
CALSCALE:GREGORIAN
METHOD:PUBLISH
X-WR-CALNAME:FFV
X-ORIGINAL-URL:https://www.staging.floridafamilyvoice.org
X-WR-CALDESC:Events for FFV
REFRESH-INTERVAL;VALUE=DURATION:PT1H
X-Robots-Tag:noindex
X-PUBLISHED-TTL:PT1H
BEGIN:VTIMEZONE
TZID:America/New_York
BEGIN:DAYLIGHT
TZOFFSETFROM:-0500
TZOFFSETTO:-0400
TZNAME:EDT
DTSTART:20210314T070000
END:DAYLIGHT
BEGIN:STANDARD
TZOFFSETFROM:-0400
TZOFFSETTO:-0500
TZNAME:EST
DTSTART:20211107T060000
END:STANDARD
END:VTIMEZONE
BEGIN:VEVENT
DTSTART;VALUE=DATE:20210808
DTEND;VALUE=DATE:20210815
DTSTAMP:20260423T042823
CREATED:20210602T192025Z
LAST-MODIFIED:20210713T134041Z
UID:55300-1628380800-1628985599@www.staging.floridafamilyvoice.org
SUMMARY:Patriot Academy 2021
DESCRIPTION:Our next Southeast Patriot Academy at the Florida State Capitol will be in June 2022. \nTHE 2021 NATIONAL PATRIOT ACADEMY IN TEXAS AUG 8-14 IS NOW FULL.  \n\n\n\n\n			\n				\n				\n				\n				\n				ABOUT PATRIOT ACADEMY: \nPatriot Academy (PA) Capitol Boot Camp is a world-class leadership training specializing in applied civics with a Biblical ~ Historical ~ Constitutional foundation. \nPA students develop leadership skills with an emphasis on character\, courage\, life purpose\, and personal skills\, underpinned by a founding fathers’ philosophy of governance. \nWe are the premier political leadership training ground in the nation\, with the most realistic simulated-legislative session available! \nJoin us for this fun\, entertaining\, educational\, and inspirational Leadership Boot Camp!
URL:https://www.staging.floridafamilyvoice.org/events/patriot-academy-2021/
LOCATION:Texas State Capitol
CATEGORIES:Special Event
ATTACH;FMTTYPE=image/jpeg:https://www.staging.floridafamilyvoice.org/wp-content/uploads/patriot-academy-fl.jpg
END:VEVENT
END:VCALENDAR