BEGIN:VCALENDAR
VERSION:2.0
PRODID:-//FFV - ECPv6.6.3//NONSGML v1.0//EN
CALSCALE:GREGORIAN
METHOD:PUBLISH
X-ORIGINAL-URL:https://www.staging.floridafamilyvoice.org
X-WR-CALDESC:Events for FFV
REFRESH-INTERVAL;VALUE=DURATION:PT1H
X-Robots-Tag:noindex
X-PUBLISHED-TTL:PT1H
BEGIN:VTIMEZONE
TZID:America/New_York
BEGIN:DAYLIGHT
TZOFFSETFROM:-0500
TZOFFSETTO:-0400
TZNAME:EDT
DTSTART:20210314T070000
END:DAYLIGHT
BEGIN:STANDARD
TZOFFSETFROM:-0400
TZOFFSETTO:-0500
TZNAME:EST
DTSTART:20211107T060000
END:STANDARD
END:VTIMEZONE
BEGIN:VEVENT
DTSTART;VALUE=DATE:20210625
DTEND;VALUE=DATE:20210627
DTSTAMP:20260423T081646
CREATED:20210602T184247Z
LAST-MODIFIED:20210603T214733Z
UID:55264-1624579200-1624751999@www.staging.floridafamilyvoice.org
SUMMARY:Black Robe Regiment Conference
DESCRIPTION:Register for Event\n			\n				\n				\n				\n				\n				Join the Black Robe Regiment for an inspiring and impactful 2-day conference where you will learn the history of the original Black Robe Regiment – a God-fearing group of pastors who stood boldly for righteousness and transformed our country\, and who played an important role in 1775\, leading to America winning independence. \nYou will learn how our modern-day Black Robe Regiment of Christian pastors and other religious leaders of diverse backgrounds\, stands united as ONE under GOD to fight the evil powers within our society that are attempting to destroy America. Most importantly\, you will leave this conference on strong Biblical values with actionable steps on how you can change yourself\, family\, church and your local community to Save America and save souls. \nYou can purchase tickets for this June 25-26 conference here: brrconference.com \n			\n				\n				\n				\n				\n				LOCATION:Sheraton Orlando North Hotel\, 600 North Lake Destiny Road\, Maitland\, Florida 32751 \nDATE / TIME:Friday 5pm-9pm I Saturday 8am-5pm \nTICKETS:General Tickets: $65 – $75 I VIP Tickets: $100Purchase Tickets Here: brrconference.com
URL:https://www.staging.floridafamilyvoice.org/events/black-robe-regiment-conference/
LOCATION:Sheraton Orlando North Hotel\, 600 North Lake Destiny Road\, Maitland\, FL\, 32751\, United States
CATEGORIES:Special Event
END:VEVENT
END:VCALENDAR