BEGIN:VCALENDAR
VERSION:2.0
PRODID:-//FFV - ECPv6.6.3//NONSGML v1.0//EN
CALSCALE:GREGORIAN
METHOD:PUBLISH
X-WR-CALNAME:FFV
X-ORIGINAL-URL:https://www.staging.floridafamilyvoice.org
X-WR-CALDESC:Events for FFV
REFRESH-INTERVAL;VALUE=DURATION:PT1H
X-Robots-Tag:noindex
X-PUBLISHED-TTL:PT1H
BEGIN:VTIMEZONE
TZID:America/New_York
BEGIN:DAYLIGHT
TZOFFSETFROM:-0500
TZOFFSETTO:-0400
TZNAME:EDT
DTSTART:20210314T070000
END:DAYLIGHT
BEGIN:STANDARD
TZOFFSETFROM:-0400
TZOFFSETTO:-0500
TZNAME:EST
DTSTART:20211107T060000
END:STANDARD
END:VTIMEZONE
BEGIN:VEVENT
DTSTART;TZID=America/New_York:20210506T063000
DTEND;TZID=America/New_York:20210506T083000
DTSTAMP:20260423T104711
CREATED:20210409T175455Z
LAST-MODIFIED:20210409T180715Z
UID:54380-1620282600-1620289800@www.staging.floridafamilyvoice.org
SUMMARY:2021 Apopka Mayor’s Prayer Breakfast
DESCRIPTION:The Apopka Mayor’s Prayer Breakfast is an annual gathering of local leaders and members of the community to unite on the common values of faith and prayer. It is hosted by the current mayor as well as the Apopka Christian Ministerial Alliance (ACMA) and is held in conjunction with the National Day of Prayer. \n\n\n \n\n\nThis year’s program will include musical performance\, video presentation\, prayers led by various community leaders\, and an inspirational message from the current year’s special keynote speaker\, Dr. Kevin Baird\, Director of Pastoral Ministries from the Florida Family Policy Council.\n\n			\n				\n				\n				\n				\n				Thursday\, May 6\, 20216:30-8:30 AMApopka Community Center / VFW Post 10147\, Apopka\, FL \n \n\nWHEN\n\n\nThursday\, May 6th\, 2021\n\n\n6:30am – Doors Open / Buffet Open\n\n\n7:00am-8:30 a.m. – Program\n\n\n \n\n\n \n\n\nWHERE\n\n\nApopka Community Center / VFW Post 10147\n\n\n519 S. Central Avenue\n\n\nApopka\, FL 32703\n\n\n \n\n\n \n\n\nTICKETS & QUESTIONS\n\n\nFor individual event ticket information\, table sponsorships\, or other questions\, please contact Pastor Joe Bankson (Victory Church WOC) at 407-462-7742\n\n\n \n\n\n \n\n\nKEYNOTE SPEAKER: Dr. Kevin Baird\n\n\nKevin Baird is the Director of Pastoral Ministries\, a division of the Florida Family Policy Council\, and a veteran minister for over 40 years. Read more about Dr. Baird: https://floridacapitolproject.org/our-director
URL:https://www.staging.floridafamilyvoice.org/events/apopka-mayors-prayer-breakfast/
LOCATION:Apopka Community Center / VFW Post 10147\, 519 S. Central Avenue\, Apopka\, FL\, 32703\, United States
CATEGORIES:Special Event
END:VEVENT
END:VCALENDAR