BEGIN:VCALENDAR
VERSION:2.0
PRODID:-//FFV - ECPv6.6.3//NONSGML v1.0//EN
CALSCALE:GREGORIAN
METHOD:PUBLISH
X-WR-CALNAME:FFV
X-ORIGINAL-URL:https://www.staging.floridafamilyvoice.org
X-WR-CALDESC:Events for FFV
REFRESH-INTERVAL;VALUE=DURATION:PT1H
X-Robots-Tag:noindex
X-PUBLISHED-TTL:PT1H
BEGIN:VTIMEZONE
TZID:America/New_York
BEGIN:DAYLIGHT
TZOFFSETFROM:-0500
TZOFFSETTO:-0400
TZNAME:EDT
DTSTART:20210314T070000
END:DAYLIGHT
BEGIN:STANDARD
TZOFFSETFROM:-0400
TZOFFSETTO:-0500
TZNAME:EST
DTSTART:20211107T060000
END:STANDARD
END:VTIMEZONE
BEGIN:VEVENT
DTSTART;TZID=America/New_York:20210504T180000
DTEND;TZID=America/New_York:20210504T200000
DTSTAMP:20260423T093356
CREATED:20210429T214031Z
LAST-MODIFIED:20210430T204044Z
UID:54593-1620151200-1620158400@www.staging.floridafamilyvoice.org
SUMMARY:Bradenton: John Stemberger - Tea Party Manatee
DESCRIPTION:FFPC President John Stemberger will speak in Bradenton\, Florida\, on May 4\, from 6 – 8 PM to the Tea Party Manatee at Mixon Farms. \nEVENT: Tea Party ManateeDATE: Tuesday\, May 4\, 2021TIME: 6-8 PMTOPIC: “Where we do go from here: Three challenges\, three opportunities\, and three action steps.”LOCATION: Mixon Farms in the Honeybell Room\, next to the retail store; 2525 27th St E\, Bradenton FL 34208
URL:https://www.staging.floridafamilyvoice.org/events/bradenton-john-stemberger-tea-party-manatee/
LOCATION:Mixon Farms\, 2525 27th St E\, Bradenton\, FL\, 34208
CATEGORIES:Special Event
END:VEVENT
END:VCALENDAR