BEGIN:VCALENDAR
VERSION:2.0
PRODID:-//FFV - ECPv6.6.3//NONSGML v1.0//EN
CALSCALE:GREGORIAN
METHOD:PUBLISH
X-ORIGINAL-URL:https://www.staging.floridafamilyvoice.org
X-WR-CALDESC:Events for FFV
REFRESH-INTERVAL;VALUE=DURATION:PT1H
X-Robots-Tag:noindex
X-PUBLISHED-TTL:PT1H
BEGIN:VTIMEZONE
TZID:America/New_York
BEGIN:DAYLIGHT
TZOFFSETFROM:-0500
TZOFFSETTO:-0400
TZNAME:EDT
DTSTART:20200308T070000
END:DAYLIGHT
BEGIN:STANDARD
TZOFFSETFROM:-0400
TZOFFSETTO:-0500
TZNAME:EST
DTSTART:20201101T060000
END:STANDARD
END:VTIMEZONE
BEGIN:VEVENT
DTSTART;TZID=America/New_York:20201115T180000
DTEND;TZID=America/New_York:20201115T200000
DTSTAMP:20260423T170645
CREATED:20201109T205541Z
LAST-MODIFIED:20201109T205758Z
UID:53594-1605463200-1605470400@www.staging.floridafamilyvoice.org
SUMMARY:Orlando - Protecting Our Children: Responding to the Transgender Issue
DESCRIPTION:FFPC President John Stemberger will be speaking at Eastland Baptist Church in Orlando on Sunday night\, November 15\, 2020 on the topic of “Protecting Our Children: Responding to the Transgender Issue.” This event will be held from 6pm ET to 8pm ET. \nThe event is FREE. Get your general admission ticket and register here:\nhttps://www.eventbrite.com/e/florida-family-policy-council-transgender-session-tickets-128025599013
URL:https://www.staging.floridafamilyvoice.org/events/protecting-our-children-responding-to-the-transgender-issue/
LOCATION:Eastland Baptist Church\, 9000 Lake Underhill Road\, Orlando\, FL\, 32825
CATEGORIES:Special Event
ATTACH;FMTTYPE=image/jpeg:https://www.staging.floridafamilyvoice.org/wp-content/uploads/2014/03/John-Stemberger-smaller-e1478549898769.jpg
END:VEVENT
END:VCALENDAR