BEGIN:VCALENDAR
VERSION:2.0
PRODID:-//FFV - ECPv6.6.3//NONSGML v1.0//EN
CALSCALE:GREGORIAN
METHOD:PUBLISH
X-WR-CALNAME:FFV
X-ORIGINAL-URL:https://www.staging.floridafamilyvoice.org
X-WR-CALDESC:Events for FFV
REFRESH-INTERVAL;VALUE=DURATION:PT1H
X-Robots-Tag:noindex
X-PUBLISHED-TTL:PT1H
BEGIN:VTIMEZONE
TZID:America/New_York
BEGIN:DAYLIGHT
TZOFFSETFROM:-0500
TZOFFSETTO:-0400
TZNAME:EDT
DTSTART:20190310T070000
END:DAYLIGHT
BEGIN:STANDARD
TZOFFSETFROM:-0400
TZOFFSETTO:-0500
TZNAME:EST
DTSTART:20191103T060000
END:STANDARD
END:VTIMEZONE
BEGIN:VEVENT
DTSTART;TZID=America/New_York:20190622T080000
DTEND;TZID=America/New_York:20190622T110000
DTSTAMP:20260424T181433
CREATED:20190521T151310Z
LAST-MODIFIED:20190521T193653Z
UID:48144-1561190400-1561201200@www.staging.floridafamilyvoice.org
SUMMARY:Men’s Breakfast at Calvary Orlando
DESCRIPTION:FFPC President John Stemberger will be the guest speaker for the Men’s Breakfast on June 22\, 2019\, at Calvary Orlando in Winter Park. \nFor more information about this event or to register\, please contact the church office at 407-644-1199 or email them here.
URL:https://www.staging.floridafamilyvoice.org/events/mens-breakfast-at-calvary-orlando/
LOCATION:Calvary Assembly\, 1199 Clay St\, Winter Park\, FL\, 32789\, United States
CATEGORIES:Special Event
END:VEVENT
END:VCALENDAR