BEGIN:VCALENDAR
VERSION:2.0
PRODID:-//FFV - ECPv6.6.3//NONSGML v1.0//EN
CALSCALE:GREGORIAN
METHOD:PUBLISH
X-ORIGINAL-URL:https://www.staging.floridafamilyvoice.org
X-WR-CALDESC:Events for FFV
REFRESH-INTERVAL;VALUE=DURATION:PT1H
X-Robots-Tag:noindex
X-PUBLISHED-TTL:PT1H
BEGIN:VTIMEZONE
TZID:America/New_York
BEGIN:DAYLIGHT
TZOFFSETFROM:-0500
TZOFFSETTO:-0400
TZNAME:EDT
DTSTART:20190310T070000
END:DAYLIGHT
BEGIN:STANDARD
TZOFFSETFROM:-0400
TZOFFSETTO:-0500
TZNAME:EST
DTSTART:20191103T060000
END:STANDARD
END:VTIMEZONE
BEGIN:VEVENT
DTSTART;VALUE=DATE:20190608
DTEND;VALUE=DATE:20190609
DTSTAMP:20260424T181544
CREATED:20190521T150325Z
LAST-MODIFIED:20190521T150440Z
UID:48140-1559952000-1560038399@www.staging.floridafamilyvoice.org
SUMMARY:Federal Association of Christian Counselors and Therapists Conference
DESCRIPTION:FFPC President John Stemberger will be speaking at the 2019 Federal Association of Christian Counselors and Therapists (FACCT) Conference on June 8\, 2019\, in Kissimmee. \nFAACT is a non-profit organization of Christian professionals and informed laymen who are concerned with developing and applying Biblically-based models of counseling and therapy that are supported by sound psychological concepts. \nFor more information\, visit facct93.com or call (352) 429-5600 or email facct93@embarqmail.com. \n  \n  \n.
URL:https://www.staging.floridafamilyvoice.org/events/federal-association-of-christian-counselors-and-therapists-conference/
CATEGORIES:Special Event
ATTACH;FMTTYPE=image/png:https://www.staging.floridafamilyvoice.org/wp-content/uploads/2019/05/federal-association-of-christian-counselors-and-therapists-logo.png
ORGANIZER;CN="Federal Association of Christian Counselors and Therapists":MAILTO:facct93@embarqmail.com
END:VEVENT
END:VCALENDAR