BEGIN:VCALENDAR
VERSION:2.0
PRODID:-//FFV - ECPv6.6.3//NONSGML v1.0//EN
CALSCALE:GREGORIAN
METHOD:PUBLISH
X-WR-CALNAME:FFV
X-ORIGINAL-URL:https://www.staging.floridafamilyvoice.org
X-WR-CALDESC:Events for FFV
REFRESH-INTERVAL;VALUE=DURATION:PT1H
X-Robots-Tag:noindex
X-PUBLISHED-TTL:PT1H
BEGIN:VTIMEZONE
TZID:America/New_York
BEGIN:DAYLIGHT
TZOFFSETFROM:-0500
TZOFFSETTO:-0400
TZNAME:EDT
DTSTART:20230312T070000
END:DAYLIGHT
BEGIN:STANDARD
TZOFFSETFROM:-0400
TZOFFSETTO:-0500
TZNAME:EST
DTSTART:20231105T060000
END:STANDARD
END:VTIMEZONE
BEGIN:VEVENT
DTSTART;VALUE=DATE:20230113
DTEND;VALUE=DATE:20230115
DTSTAMP:20260420T060136
CREATED:20230111T231743Z
LAST-MODIFIED:20230111T232728Z
UID:58926-1673568000-1673740799@www.staging.floridafamilyvoice.org
SUMMARY:March for Life –  St. Augustine – January 13-14\, 2023
DESCRIPTION:March for Life St. Augustine is for anyone of any faith who believes in the sanctity of human life. You can learn more here.
URL:https://www.staging.floridafamilyvoice.org/events/march-for-life-st-augustine-january-13-14-2023/
LOCATION:National Shrine of Our Lady of La Leche\, 101 San Marco Ave.\, St. Augustine\, FL\, United States
CATEGORIES:Special Event
ATTACH;FMTTYPE=image/jpeg:https://www.staging.floridafamilyvoice.org/wp-content/uploads/march-for-life-st-augustine-2023.jpg
END:VEVENT
END:VCALENDAR